Workbook

Sheet Sheet2
A1: Numbering | B1: First Name | C1: Last Name | D1: Street | E1: Towm | F1: Postcode | G1: Contact number | H1: Donation | I1: Date | K1: Donations | M1: =SEQUENCE(41)
B2: Ethan | C2: Stein | D2: 123 Apple St | E2: Newtonville | F2: N1V 2B3 | G2: 5170747662 | H2: 1842 | I2: 1457.3232 | K2: Total | M2: =SUM(H3:H43)
B3: Liam | C3: Cook | D3: 456 Pear Ave | E3: Devonshire | F3: D3V 4N5 | G3: 2303386303 | H3: 776 | I3: 30.955989 | K3: Highest | M3: =MAX(H3:H43)
B4: Noah | C4: Hayden | D4: 789 Cherry Blvd | E4: Abbotstown | F4: A6T 7W9 | G4: 5318528560 | H4: 1302 | I4: 97.446153 | K4: Lowest | M4: =MIN(H3:H43)
B5: Oliver | C5: Le | D5: 321 Peach Dr | E5: Newville | F5: N4E 3W2 | G5: 4090671788 | H5: 3970 | I5: 62.348425
B6: William | C6: Petty | D6: 654 Plum Way | E6: Devonia | F6: D6A 5P4 | G6: 8336803630 | H6: 3028 | I6: 45.798776 | K6: dd mmmm yyyy hh:mm
B7: James | C7: Morales | D7: 987 Apricot Ln | E7: Abbotsville | F7: A8S 9V7 | G7: 2405839580 | H7: 890 | I7: 53.153392 | K7: ("0") #### ### ###
B8: Benjamin | C8: Haney | D8: 135 Grape Rd | E8: Newbury | F8: N3W 1B5 | G8: 1892672470 | H8: 3937 | I8: 91.1915
B9: Alexander | C9: Rasmussen | D9: 246 Melon Ct | E9: Devonton | F9: D2T 4O6 | G9: 4458514211 | H9: 4871 | I9: 52.073936
B10: Henry | C10: Gonzalez | D10: 369 Berry Pkwy | E10: Abbotson | F10: A6S 9R3 | G10: 1497905995 | H10: 4938 | I10: 19.699109
B11: Daniel | C11: Hensley | D11: 159 Orange Pl | E11: Newfield | F11: N5E 1O9 | G11: 4678514427 | H11: 3777 | I11: 15.631285
B12: Michael | C12: Arroyo | D12: 753 Lemon Sq | E12: Devonport | F12: D7P 5O3 | G12: 2225202283 | H12: 4662 | I12: 8.991123
B13: Matthew | C13: Vance | D13: 951 Lime Ter | E13: Abbottsford | F13: A5F 9T1 | G13: 6884464977 | H13: 2388 | I13: 14.46615
B14: David | C14: Stein | D14: 357 Mango Cir | E14: Newbridge | F14: N3W 5A7 | G14: 3538394021 | H14: 4918 | I14: 16.515259
B15: Joseph | C15: Cook | D15: 864 Strawberry Ln | E15: Devonside | F15: D8E 6R4 | G15: 2993275690 | H15: 263 | I15: 52.858924
B16: Samuel | C16: Hayden | D16: 951 Pineapple Way | E16: Abbotstown | F16: A5T 9W1 | G16: 1271161456 | H16: 4921 | I16: 68.726428
B17: Andrew | C17: Le | D17: 357 Kiwi Dr | E17: Newbury | F17: N3W 5A7 | G17: 2601354268 | H17: 1126 | I17: 75.169398
B18: Christopher | C18: Petty | D18: 864 Raspberry Rd | E18: Devonville | F18: D8V 6R4 | G18: 1501068669 | H18: 1246 | I18: 84.662264
B19: Nicholas | C19: Morales | D19: 159 Blueberry Ct | E19: Abbottsville | F19: A5V 1L9 | G19: 5079699881 | H19: 3171 | I19: 67.393385
... B42: Jane | C42: Tribble | D42: 357 Orange Way | E42: Devonton | F42: D3O 5A7 | G42: 1032661526 | H42: 477 | I42: 8.3573243

Sheet Sheet3
A1: id | B1: firstname | C1: lastname | D1: email | E1: Date | F1: Company | G1: Contact number | H1: Product | I1: Price | J1: Quantity | K1: Subtotal | L1: Tax 10% | M1: Total | O1: Total | R1: Tax rate
A2: 1 | B2: Charlie | C2: Reichert | D2: Charlie.Reichert28@gmail.com | E2: 45098 | F2: Kihn, Nader and Shields | G2: +44 (0) 551-0506-958 | H2: Practical Wooden Sausages | I2: 9.19 | J2: 179 | O2: =SUM(K3+L3) | P2: =K3 * (1 + 0.10) | Q2: =K3+(K3*0.1) | R2: =K3*Tax_Rate
A3: 2 | B3: Sabrina | C3: Carroll | D3: Sabrina_Carroll@yahoo.com | E3: 45099 | F3: Grady - Hodkiewicz | G3: +44 (0) 109-2923-364 | H3: Elegant Cotton Shoes | I3: 7 | J3: 524 | R3: =K3*$L$1
A4: 3 | B4: Dewey | C4: Monahan-Tromp | D4: Dewey_Monahan-Tromp52@yahoo.com | E4: 45100 | F4: Veum, VonRueden and Hegmann | G4: +44 (0) 408-2180-574 | H4: Incredible Concrete Towels | I4: 9.98 | J4: 233 | O4: [$-x-sysdate]dddd, mmmm dd, yyyy
A5: 4 | B5: Charlie | C5: O'Kon | D5: Charlie.OKon@hotmail.com | E5: 45103 | F5: Bosco, Kemmer and Rippin | G5: +44 (0) 439-3997-268 | H5: Awesome Plastic Chicken | I5: 8.35 | J5: 701
A6: 5 | B6: Nancy | C6: Ziemann | D6: Nancy.Ziemann@yahoo.com | E6: 45104 | F6: Cronin - Prohaska | G6: +44 (0) 893-8611-355 | H6: Recycled Frozen Computer | I6: 6.8 | J6: 73
A7: 6 | B7: Perry | C7: Kutch | D7: Perry.Kutch@gmail.com | E7: 45105 | F7: Botsford - Watsica | G7: +44 (0) 404-9287-414 | H7: Ergonomic Concrete Tuna | I7: 7.51 | J7: 137
A8: 7 | B8: Christine | C8: McKenzie | D8: Christine.McKenzie@yahoo.com | E8: 45106 | F8: Stracke - Marks | G8: +44 (0) 746-7587-877 | H8: Practical Wooden Keyboard | I8: 7.99 | J8: 590
A9: 8 | B9: Patsy | C9: Emmerich | D9: Patsy_Emmerich90@hotmail.com | E9: 45107 | F9: Crooks, Crona and Erdman | G9: +44 (0) 375-1243-173 | H9: Tasty Granite Gloves | I9: 5.04 | J9: 569
A10: 9 | B10: Laurence | C10: Kuvalis-Feeney | D10: Laurence_Kuvalis-Feeney76@yahoo.com | E10: 45110 | F10: Hessel, Kemmer and Kunde | G10: +44 (0) 364-9152-182 | H10: Gorgeous Bronze Computer | I10: 5.9 | J10: 897
A11: 10 | B11: Elsie | C11: Smith | D11: Elsie.Smith@gmail.com | E11: 45111 | F11: Kassulke Group | G11: +44 (0) 996-1678-791 | H11: Luxurious Bronze Cheese | I11: 8.54 | J11: 942
A12: 11 | B12: Anita | C12: Pfeffer | D12: Anita_Pfeffer45@hotmail.com | E12: 45112 | F12: Kuhlman, Heaney and Kilback | G12: +44 (0) 689-3602-629 | H12: Gorgeous Steel Gloves | I12: 5.91 | J12: 902
A13: 12 | B13: Kevin | C13: Kub | D13: Kevin.Kub@gmail.com | E13: 45113 | F13: Schneider, Koss and Steuber | G13: +44 (0) 802-6270-089 | H13: Tasty Soft Ball | I13: 7.05 | J13: 25
A14: 13 | B14: Debra | C14: West | D14: Debra.West18@yahoo.com | E14: 45114 | F14: Schuster, Balistreri and Douglas | G14: +44 (0) 152-4126-218 | H14: Handcrafted Rubber Mouse | I14: 6.32 | J14: 248
A15: 14 | B15: Santiago | C15: Leffler | D15: Santiago91@hotmail.com | E15: 45117 | F15: Roob and Sons | G15: +44 (0) 853-4593-973 | H15: Ergonomic Plastic Chips | I15: 7.72 | J15: 702
A16: 15 | B16: Amanda | C16: Lehner | D16: Amanda.Lehner96@yahoo.com | E16: 45118 | F16: Goodwin, Hayes and Gislason | G16: +44 (0) 177-5476-142 | H16: Rustic Bronze Table | I16: 6.76 | J16: 900
... A1001: 1000 | B1001: Minnie | C1001: Konopelski | D1001: Minnie.Konopelski88@gmail.com | E1001: 46497 | F1001: Rodriguez - McGlynn | G1001: +44 (0) 971-6531-328 | H1001: Practical Granite Ball | I1001: 9.71 | J1001: 900

Sheet Sheet1
A1: OrderDate | B1: Region | C1: Rep | D1: Item | E1: Units | F1: UnitCost | G1: Total
A2: 43983 | B2: East | C2: Jones | D2: Pencil | E2: 95 | F2: 1.99 | G2: 189.05 | I2: Formula | K2: Functions | M2: Functions and formulas
A3: 43853 | B3: Central | C3: Kivell | D3: Binder | E3: 50 | F3: 19.99 | G3: 999.5 | I3: =G2+G3 | K3: Sum | M3: =SUM(G3:G45) | N3: =SUM(Formula_Functions[Total])
A4: 44076 | B4: Central | C4: Jardine | D4: Pencil | E4: 36 | F4: 4.99 | G4: 179.64 | I4: =G2+G3-G4 | K4: Average | M4: =AVERAGE(G3:G45) | N4: =AVERAGE(Formula_Functions[Total])
A5: 43887 | B5: Central | C5: Gill | D5: Pen | E5: 27 | F5: 19.99 | G5: 539.73 | K5: Count | M5: =COUNT(G3:G45) | N5: =COUNT(Formula_Functions[Total])
A6: 43905 | B6: West | C6: Sorvino | D6: Pencil | E6: 56 | F6: 2.99 | G6: 167.44 | K6: Count items | M6: =COUNTA(D2:D44) | N6: =COUNTA(Formula_Functions[Item])
A7: 43834 | B7: East | C7: Jones | D7: Binder | E7: 60 | F7: 4.99 | G7: 299.4 | K7: Min | M7: =MIN(E3:E45) | N7: =MIN(Formula_Functions[Units])
A8: 43939 | B8: Central | C8: Andrews | D8: Pencil | E8: 75 | F8: 1.99 | G8: 149.25 | K8: Max | M8: =MAX(G3:G45) | N8: =MAX(Formula_Functions[Units])
A9: 43956 | B9: Central | C9: Jardine | D9: Pencil | E9: 90 | F9: 4.99 | G9: 449.1
A10: 43973 | B10: West | C10: Thompson | D10: Pencil | E10: 32 | F10: 1.99 | G10: 63.68 | K10: Average Pencil Sales | M10: =AVERAGEIFS(D2:D44,"Pencil",G2:G44)
A11: 44049 | B11: East | C11: Jones | D11: Binder | E11: 60 | F11: 8.99 | G11: 539.4 | M11: =AVERAGEIF(Formula_Functions[Item], "Pencil",Formula_Functions[Total])
A12: 44007 | B12: Central | C12: Morgan | D12: Pencil | E12: 90 | F12: 4.99 | G12: 449.1
A13: 44172 | B13: East | C13: Howard | D13: Binder | E13: 29 | F13: 1.99 | G13: 57.71
A14: 43890 | B14: East | C14: Parent | D14: Binder | E14: 81 | F14: 19.99 | G14: 1619.19 | K14: Item | L14: Count
A15: 44058 | B15: East | C15: Jones | D15: Pencil | E15: 35 | F15: 4.99 | G15: 174.65 | M15: =UNIQUE(D23D45) | N15: =COUNTIF(Formula_Functions[Item],K15)
A16: 44075 | B16: Central | C16: Smith | D16: Desk | E16: 2 | F16: 125 | G16: 250 | N16: =COUNTIF(D3:D45,K15)
A17: 44092 | B17: East | C17: Jones | D17: Pen Set | E17: 16 | F17: 15.99 | G17: 255.84
A18: 43961 | B18: Central | C18: Morgan | D18: Binder | E18: 28 | F18: 8.99 | G18: 251.72
A19: 44126 | B19: East | C19: Jones | D19: Pen | E19: 64 | F19: 8.99 | G19: 575.36
A20: 44054 | B20: East | C20: Parent | D20: Pen | E20: 15 | F20: 19.99 | G20: 299.85
A21: 43886 | B21: Central | C21: Kivell | D21: Pen Set | E21: 96 | F21: 4.99 | G21: 479.04 | K21: List - alphabetical order
A22: 44177 | B22: Central | C22: Smith | D22: Pencil | E22: 67 | F22: 1.29 | G22: 86.43
A23: 44194 | B23: East | C23: Parent | D23: Pen Set | E23: 74 | F23: 15.99 | G23: 1183.26
A24: 44211 | B24: Central | C24: Gill | D24: Binder | E24: 46 | F24: 8.99 | G24: 413.54
A25: 44198 | B25: Central | C25: Smith | D25: Binder | E25: 87 | F25: 15 | G25: 1305
A26: 44245 | B26: East | C26: Jones | D26: Binder | E26: 4 | F26: 4.99 | G26: 19.96
A27: 44380 | B27: West | C27: Sorvino | D27: Binder | E27: 7 | F27: 19.99 | G27: 139.93
A28: 44279 | B28: Central | C28: Jardine | D28: Pen Set | E28: 50 | F28: 4.99 | G28: 249.5
A29: 44473 | B29: Central | C29: Andrews | D29: Pencil | E29: 66 | F29: 1.99 | G29: 131.34
A30: 44313 | B30: East | C30: Howard | D30: Pen | E30: 96 | F30: 4.99 | G30: 479.04
A31: 44241 | B31: Central | C31: Gill | D31: Pencil | E31: 53 | F31: 1.29 | G31: 68.37
A32: 44347 | B32: Central | C32: Gill | D32: Binder | E32: 80 | F32: 8.99 | G32: 719.2
A33: 44364 | B33: Central | C33: Kivell | D33: Desk | E33: 5 | F33: 125 | G33: 625
... A44: 44551 | B44: Central | C44: Andrews | D44: Binder | E44: 28 | F44: 4.99 | G44: 139.72

Sheet Sheet4
A1: Start | B1: Finish | C1: Tine in Hours | E1: Start | F1: Finish | G1: Tine in Days
A2: 0.29166667 | B2: 0.625 | C2: =MOD(B2-A2,1)*24 -> 8 | E2: 45018 | F2: 45060
A3: 0.20833333 | B3: 0.70833333 | C3: =MOD(B3-A3,1)*24 -> 12 | E3: 45467 | F3: 45476
A4: 0.42569444 | B4: 0.60555556 | C4: =MOD(B4-A4,1)*24 -> 4.3166667 | E4: 45272 | F4: 45302
A5: 0.29166667 | B5: 0.625 | C5: =MOD(B5-A5,1)*24 -> 8 | E5: 44780 | F5: 44816
A6: 0.29166667 | B6: 0.625 | C6: =MOD(B6-A6,1)*24 -> 8 | E6: 45130 | F6: 45187
A7: 0.29166667 | B7: 0.625 | C7: =MOD(B7-A7,1)*24 -> 8 | E7: 45324 | F7: 45354
A8: 0.29166667 | B8: 0.625 | C8: =MOD(B8-A8,1)*24 -> 8 | E8: 45404 | F8: 45442
B10: Function/Formula | C10: =MOD(B2-A2,1)*24 | F10: Function/Formula | G10: =DAYS(F3,E3)
B11: Cell formatting | C11: [$-en-GB]h:mm AM/PM;@ | F11: Cell formatting | G11: dd/mm/yyyy

Sheet Channel Marketing Budget
B1: CHANNEL MARKETING BUDGET
C2: Rate | D2: Month 1 | E2: Month 2 | F2: Month 3 | G2: Month 4 | H2: Month 5 | I2: Month 6 | J2: Month 7 | K2: Month 8 | L2: Month 9 | M2: Month 10 | N2: Month 11 | O2: Month 12 | Q2: Total
B3: ANTICIPATED SALES TOTAL $(000) | D3: 750 | E3: 200 | F3: 500 | G3: 1500 | H3: 1200 | I3: 1500 | J3: 1500 | K3: 1800 | L3: 2000 | M3: 2000 | N3: 2000 | O3: 2000 | Q3: =SUM(D3:O3) -> 16950
B4: PERSONNEL (% OF TOTAL SALES) | D4: =D9+D28+D35+D41 -> 1.1 | E4: =E9+E28+E35+E41 -> 1.1 | F4: =F9+F28+F35+F41 -> 1.1 | G4: =G9+G28+G35+G41 -> 1.1 | H4: =H9+H28+H35+H41 -> 1.1 | I4: =I9+I28+I35+I41 -> 1.1 | J4: =J9+J28+J35+J41 -> 1.1 | K4: =K9+K28+K35+K41 -> 1.1 | ... O4: =O9+O28+O35+O41 -> 0.85
B5: Human Resources - Headcount | C5: 5 | D5: =+$C$5 -> 5 | E5: =+$C$5 -> 5 | F5: =+$C$5 -> 5 | G5: =+$C$5 -> 5 | H5: =+$C$5 -> 5 | I5: =+$C$5 -> 5 | J5: =+$C$5 -> 5 | K5: =+$C$5 -> 5 | ... O5: =+$C$5 -> 5
B6: Human Resources - Cost | D6: =$C$5*D5 -> 25 | E6: =$C$5*E5 -> 25 | F6: =$C$5*F5 -> 25 | G6: =$C$5*G5 -> 25 | H6: =$C$5*H5 -> 25 | I6: =$C$5*I5 -> 25 | J6: =$C$5*J5 -> 25 | K6: =$C$5*K5 -> 25 | ... O6: =$C$5*O5 -> 25 | Q6: =SUM('Channel Marketing Budget'!$D6:$O6) -> 300
B7: Commission | C7: 0.001 | D7: =D3*$C$7 -> 0.75 | E7: =E3*$C$7 -> 0.2 | F7: =F3*$C$7 -> 0.5 | G7: =G3*$C$7 -> 1.5 | H7: =H3*$C$7 -> 1.2 | I7: =I3*$C$7 -> 1.5 | J7: =J3*$C$7 -> 1.5 | K7: =K3*$C$7 -> 1.8 | ... O7: =O3*$C$7 -> 2 | Q7: =SUM('Channel Marketing Budget'!$D7:$O7) -> 16.95
B8: Personnel Total $(000) | D8: =SUM(D6:D7) -> 25.75 | E8: =SUM(E6:E7) -> 25.2 | F8: =SUM(F6:F7) -> 25.5 | G8: =SUM(G6:G7) -> 26.5 | H8: =SUM(H6:H7) -> 26.2 | I8: =SUM(I6:I7) -> 26.5 | J8: =SUM(J6:J7) -> 26.5 | K8: =SUM(K6:K7) -> 26.8 | ... O8: =SUM(O6:O7) -> 27 | Q8: =SUM('Channel Marketing Budget'!$D8:$O8) -> 316.95
B9: DIRECT MARKETING (% OF TOTAL SALES) | D9: 1 | E9: 1 | F9: 0.75 | G9: 0.4 | H9: 0.33 | I9: 0.25 | J9: 0.2 | K9: 0.1 | L9: 0.05 | M9: 0.05 | N9: 0.05 | O9: 0.05
B10: Telemarketing (% of Direct Sales) | D10: 1 | E10: 0.5 | F10: 0.5 | G10: 0.5 | H10: 0.5 | I10: 0.5 | J10: 0.5 | K10: 0.5 | L10: 0.5 | M10: 0.5 | N10: 0.5 | O10: 0.5
B11: Human Resources - Headcount | C11: 3 | D11: =$C$11*D10 -> 3 | E11: =$C$11*E10 -> 1.5 | F11: =$C$11*F10 -> 1.5 | G11: =$C$11*G10 -> 1.5 | H11: =$C$11*H10 -> 1.5 | I11: =$C$11*I10 -> 1.5 | J11: =$C$11*J10 -> 1.5 | K11: =$C$11*K10 -> 1.5 | ... O11: =$C$11*O10 -> 1.5 | Q11: =SUM('Channel Marketing Budget'!$D11:$O11) -> 19.5
B12: Infrastructure Support | D12: 25 | E12: 10 | F12: 25 | G12: 10 | H12: 25 | I12: 10 | J12: 25 | K12: 10 | L12: 25 | M12: 10 | N12: 25 | O12: 10 | Q12: =SUM('Channel Marketing Budget'!$D12:$O12) -> 210
B13: Commission | C13: 0.001 | D13: =$C$13*D3*D9*D10 -> 0.75 | E13: =$C$13*E3*E9*E10 -> 0.1 | F13: =$C$13*F3*F9*F10 -> 0.1875 | G13: =$C$13*G3*G9*G10 -> 0.3 | H13: =$C$13*H3*H9*H10 -> 0.198 | I13: =$C$13*I3*I9*I10 -> 0.1875 | J13: =$C$13*J3*J9*J10 -> 0.15 | K13: =$C$13*K3*K9*K10 -> 0.09 | ... O13: =$C$13*O3*O9*O10 -> 0.05 | Q13: =SUM('Channel Marketing Budget'!$D13:$O13) -> 2.163
B14: Training | D14: 25 | E14: 10 | F14: 25 | G14: 10 | H14: 25 | I14: 10 | J14: 25 | K14: 10 | L14: 25 | M14: 10 | N14: 25 | O14: 10 | Q14: =SUM('Channel Marketing Budget'!$D14:$O14) -> 210
B15: Telemarketing Total $(000) | D15: =SUM(D11:D14) -> 53.75 | E15: =SUM(E11:E14) -> 21.6 | F15: =SUM(F11:F14) -> 51.6875 | G15: =SUM(G11:G14) -> 21.8 | H15: =SUM(H11:H14) -> 51.698 | I15: =SUM(I11:I14) -> 21.6875 | J15: =SUM(J11:J14) -> 51.65 | K15: =SUM(K11:K14) -> 21.59 | ... O15: =SUM(O11:O14) -> 21.55 | Q15: =SUM('Channel Marketing Budget'!$D15:$O15) -> 441.663
B16: Internet Marketing (% of Direct Sales) | D16: 0.25 | E16: 0.25 | F16: 0.25 | G16: 0.25 | H16: 0.25 | I16: 0.25 | J16: 0.25 | K16: 0.25 | L16: 0.25 | M16: 0.25 | N16: 0.25 | O16: 0.25
B17: Human Resources - Headcount | C17: 1 | D17: =$C$17*D16 -> 0.25 | E17: =$C$17*E16 -> 0.25 | F17: =$C$17*F16 -> 0.25 | G17: =$C$17*G16 -> 0.25 | H17: =$C$17*H16 -> 0.25 | I17: =$C$17*I16 -> 0.25 | J17: =$C$17*J16 -> 0.25 | K17: =$C$17*K16 -> 0.25 | ... O17: =$C$17*O16 -> 0.25 | Q17: =SUM('Channel Marketing Budget'!$D17:$O17) -> 3
B18: Website Development (one-time cost) | D18: 500 | Q18: =SUM('Channel Marketing Budget'!$D18:$O18) -> 500
B19: Hosting | D19: 10 | E19: 10 | F19: 10 | G19: 10 | H19: 10 | I19: 10 | J19: 10 | K19: 10 | L19: 10 | M19: 10 | N19: 10 | O19: 10 | Q19: =SUM('Channel Marketing Budget'!$D19:$O19) -> 120
B20: Support & Maintenance | D20: 25 | N20: 25 | Q20: =SUM('Channel Marketing Budget'!$D20:$O20) -> 50
B21: Internet Marketing Total $(000) | D21: =SUM(D17:D20) -> 535.25 | E21: =SUM(E17:E20) -> 10.25 | F21: =SUM(F17:F20) -> 10.25 | G21: =SUM(G17:G20) -> 10.25 | H21: =SUM(H17:H20) -> 10.25 | I21: =SUM(I17:I20) -> 10.25 | J21: =SUM(J17:J20) -> 10.25 | K21: =SUM(K17:K20) -> 10.25 | ... O21: =SUM(O17:O20) -> 10.25 | Q21: =SUM('Channel Marketing Budget'!$D21:$O21) -> 673
B22: Direct email (% of direct sales)
B23: Human Resources - Cost | Q23: =SUM('Channel Marketing Budget'!$D23:$O23) -> 0
B24: Material | D24: 1000 | E24: 1000 | F24: 1000 | G24: 1000 | H24: 1000 | I24: 1000 | J24: 1000 | K24: 1000 | L24: 1000 | M24: 1000 | N24: 1000 | O24: 1000 | Q24: =SUM('Channel Marketing Budget'!$D24:$O24) -> 12000
B25: Postage | D25: 250 | E25: 250 | F25: 250 | G25: 250 | H25: 250 | I25: 250 | J25: 250 | K25: 250 | L25: 250 | M25: 250 | N25: 250 | O25: 250 | Q25: =SUM('Channel Marketing Budget'!$D25:$O25) -> 3000
B26: Direct email total $ (000) | D26: =SUM(D23:D25) -> 1250 | E26: =SUM(E23:E25) -> 1250 | F26: =SUM(F23:F25) -> 1250 | G26: =SUM(G23:G25) -> 1250 | H26: =SUM(H23:H25) -> 1250 | I26: =SUM(I23:I25) -> 1250 | J26: =SUM(J23:J25) -> 1250 | K26: =SUM(K23:K25) -> 1250 | ... O26: =SUM(O23:O25) -> 1250 | Q26: =SUM(Q23:Q25) -> 15000
B27: Direct Marketing Total $(000) | D27: =SUM(D15,D21,D26) -> 1839 | E27: =SUM(E15,E21,E26) -> 1281.85 | F27: =SUM(F15,F21,F26) -> 1311.9375 | G27: =SUM(G15,G21,G26) -> 1282.05 | H27: =SUM(H15,H21,H26) -> 1311.948 | I27: =SUM(I15,I21,I26) -> 1281.9375 | J27: =SUM(J15,J21,J26) -> 1311.9 | K27: =SUM(K15,K21,K26) -> 1281.84 | ... O27: =SUM(O15,O21,O26) -> 1281.8 | Q27: =SUM(Q15,Q21,Q26) -> 16114.663
B28: AGENT/BROKER (% OF TOTAL SALES) | D28: 0.1 | E28: 0.1 | F28: 0.1 | G28: 0.1 | H28: 0.1 | I28: 0.1 | J28: 0.1 | K28: 0.1 | L28: 0.1 | M28: 0.1 | N28: 0.1 | O28: 0.1
B29: Communication | D29: 50 | E29: 50 | F29: 50 | G29: 50 | H29: 50 | I29: 50 | J29: 50 | K29: 50 | L29: 50 | M29: 50 | N29: 50 | O29: 50 | Q29: =SUM('Channel Marketing Budget'!$D29:$O29) -> 600
B30: Training | D30: 250 | E30: 250 | F30: 250 | G30: 250 | H30: 250 | I30: 250 | J30: 250 | K30: 250 | L30: 250 | M30: 250 | N30: 250 | O30: 250 | Q30: =SUM('Channel Marketing Budget'!$D30:$O30) -> 3000
B31: Promotions | D31: 600 | E31: 600 | F31: 600 | G31: 600 | H31: 600 | I31: 600 | J31: 600 | K31: 600 | L31: 600 | M31: 600 | N31: 600 | O31: 600 | Q31: =SUM('Channel Marketing Budget'!$D31:$O31) -> 7200
B32: Discounts | C32: 0.1 | D32: =D3*D28*$C$32 -> 7.5 | E32: =E3*E28*$C$32 -> 2 | F32: =F3*F28*$C$32 -> 5 | G32: =G3*G28*$C$32 -> 15 | H32: =H3*H28*$C$32 -> 12 | I32: =I3*I28*$C$32 -> 15 | J32: =J3*J28*$C$32 -> 15 | K32: =K3*K28*$C$32 -> 18 | ... O32: =O3*O28*$C$32 -> 20 | Q32: =SUM('Channel Marketing Budget'!$D32:$O32) -> 169.5
B33: Commission (% of Agent's Sales) | C33: 0.1 | D33: =D3*D28*$C$33 -> 7.5 | E33: =E3*E28*$C$33 -> 2 | F33: =F3*F28*$C$33 -> 5 | G33: =G3*G28*$C$33 -> 15 | H33: =H3*H28*$C$33 -> 12 | I33: =I3*I28*$C$33 -> 15 | J33: =J3*J28*$C$33 -> 15 | K33: =K3*K28*$C$33 -> 18 | ... O33: =O3*O28*$C$33 -> 20 | Q33: =SUM('Channel Marketing Budget'!$D33:$O33) -> 169.5
B34: Agent/Broker Total $(000) | D34: =SUM(D29:D33) -> 915 | E34: =SUM(E29:E33) -> 904 | F34: =SUM(F29:F33) -> 910 | G34: =SUM(G29:G33) -> 930 | H34: =SUM(H29:H33) -> 924 | I34: =SUM(I29:I33) -> 930 | J34: =SUM(J29:J33) -> 930 | K34: =SUM(K29:K33) -> 936 | ... O34: =SUM(O29:O33) -> 940 | Q34: =SUM(Q29:Q33) -> 11139
B35: DISTRIBUTORS (% OF TOTAL SALES) | D35: 0 | E35: 0 | F35: 0 | G35: 0 | H35: 0 | I35: 0.15 | J35: 0.2 | K35: 0.4 | L35: 0.4 | M35: 0.4 | N35: 0.4 | O35: 0.4
B36: Communication | D36: 50 | E36: 50 | F36: 50 | G36: 50 | H36: 50 | I36: 50 | J36: 50 | K36: 50 | L36: 50 | M36: 50 | N36: 50 | O36: 50 | Q36: =SUM('Channel Marketing Budget'!$D36:$O36) -> 600
B37: Training | D37: 250 | E37: 250 | F37: 250 | G37: 250 | H37: 250 | I37: 250 | J37: 250 | K37: 250 | L37: 250 | M37: 250 | N37: 250 | O37: 250 | Q37: =SUM('Channel Marketing Budget'!$D37:$O37) -> 3000
B38: Promotions | D38: 600 | E38: 600 | F38: 600 | G38: 600 | H38: 600 | I38: 600 | J38: 600 | K38: 600 | L38: 600 | M38: 600 | N38: 600 | O38: 600 | Q38: =SUM('Channel Marketing Budget'!$D38:$O38) -> 7200
B39: Commission/Discounts (% of Distributors' Sales) | C39: 0.15 | D39: =D3*D35*$C$39 -> 0 | E39: =E3*E35*$C$39 -> 0 | F39: =F3*F35*$C$39 -> 0 | G39: =G3*G35*$C$39 -> 0 | H39: =H3*H35*$C$39 -> 0 | I39: =I3*I35*$C$39 -> 33.75 | J39: =J3*J35*$C$39 -> 45 | K39: =K3*K35*$C$39 -> 108 | ... O39: =O3*O35*$C$39 -> 120 | Q39: =SUM('Channel Marketing Budget'!$D39:$O39) -> 666.75
B40: Distributor Total $(000) | D40: =SUM(D36:D39) -> 900 | E40: =SUM(E36:E39) -> 900 | F40: =SUM(F36:F39) -> 900 | G40: =SUM(G36:G39) -> 900 | H40: =SUM(H36:H39) -> 900 | I40: =SUM(I36:I39) -> 933.75 | J40: =SUM(J36:J39) -> 945 | K40: =SUM(K36:K39) -> 1008 | ... O40: =SUM(O36:O39) -> 1020 | Q40: =SUM(Q36:Q39) -> 11466.75
...
