Workbook
Name Tax_Rate: 'Cell formatting $'!$L$1

Sheet Numbering
A1: Sequencial numbering
A2: Numbering | B2: First Name | C2: Last Name | D2: Street | E2: Towm | F2: Postcode | G2: Contact number | H2: Donation | I2: Date | K2: Donations | M2: =SEQUENCE(41)
B3: Ethan | C3: Stein | D3: 123 Apple St | E3: Newtonville | F3: N1V 2B3 | G3: 5170747662 | H3: 1842 | I3: 1457.3232 | K3: Total | L3: =SUM(H3:H43) -> 108286 | M3: =SUM(H3:H43)
A4: 2 | B4: Liam | C4: Cook | D4: 456 Pear Ave | E4: Devonshire | F4: D3V 4N5 | G4: 2303386303 | H4: 776 | I4: 30.955989 | K4: Highest | L4: =MAX(H3:H43) -> 4938 | M4: =MAX(H3:H43)
A5: 3 | B5: Noah | C5: Hayden | D5: 789 Cherry Blvd | E5: Abbotstown | F5: A6T 7W9 | G5: 5318528560 | H5: 1302 | I5: 97.446153 | K5: Lowest | L5: =MIN(H3:H43) -> 14 | M5: =MIN(H3:H43)
A6: 4 | B6: Oliver | C6: Le | D6: 321 Peach Dr | E6: Newville | F6: N4E 3W2 | G6: 4090671788 | H6: 3970 | I6: 62.348425
A7: 5 | B7: William | C7: Petty | D7: 654 Plum Way | E7: Devonia | F7: D6A 5P4 | G7: 8336803630 | H7: 3028 | I7: 45.798776 | K7: dd mmmm yyyy hh:mm
A8: 6 | B8: James | C8: Morales | D8: 987 Apricot Ln | E8: Abbotsville | F8: A8S 9V7 | G8: 2405839580 | H8: 890 | I8: 53.153392 | K8: ("0") #### ### ###
A9: 7 | B9: Benjamin | C9: Haney | D9: 135 Grape Rd | E9: Newbury | F9: N3W 1B5 | G9: 1892672470 | H9: 3937 | I9: 91.1915
A10: 8 | B10: Alexander | C10: Rasmussen | D10: 246 Melon Ct | E10: Devonton | F10: D2T 4O6 | G10: 4458514211 | H10: 4871 | I10: 52.073936
A11: 9 | B11: Henry | C11: Gonzalez | D11: 369 Berry Pkwy | E11: Abbotson | F11: A6S 9R3 | G11: 1497905995 | H11: 4938 | I11: 19.699109
A12: 10 | B12: Daniel | C12: Hensley | D12: 159 Orange Pl | E12: Newfield | F12: N5E 1O9 | G12: 4678514427 | H12: 3777 | I12: 15.631285
A13: 11 | B13: Michael | C13: Arroyo | D13: 753 Lemon Sq | E13: Devonport | F13: D7P 5O3 | G13: 2225202283 | H13: 4662 | I13: 8.991123
A14: 12 | B14: Matthew | C14: Vance | D14: 951 Lime Ter | E14: Abbottsford | F14: A5F 9T1 | G14: 6884464977 | H14: 2388 | I14: 14.46615
A15: 13 | B15: David | C15: Stein | D15: 357 Mango Cir | E15: Newbridge | F15: N3W 5A7 | G15: 3538394021 | H15: 4918 | I15: 16.515259
A16: 14 | B16: Joseph | C16: Cook | D16: 864 Strawberry Ln | E16: Devonside | F16: D8E 6R4 | G16: 2993275690 | H16: 263 | I16: 52.858924
A17: 15 | B17: Samuel | C17: Hayden | D17: 951 Pineapple Way | E17: Abbotstown | F17: A5T 9W1 | G17: 1271161456 | H17: 4921 | I17: 68.726428
A18: 16 | B18: Andrew | C18: Le | D18: 357 Kiwi Dr | E18: Newbury | F18: N3W 5A7 | G18: 2601354268 | H18: 1126 | I18: 75.169398
A19: 17 | B19: Christopher | C19: Petty | D19: 864 Raspberry Rd | E19: Devonville | F19: D8V 6R4 | G19: 1501068669 | H19: 1246 | I19: 84.662264
A20: 18 | B20: Nicholas | C20: Morales | D20: 159 Blueberry Ct | E20: Abbottsville | F20: A5V 1L9 | G20: 5079699881 | H20: 3171 | I20: 67.393385
... A43: 41 | B43: Jane | C43: Tribble | D43: 357 Orange Way | E43: Devonton | F43: D3O 5A7 | G43: 1032661526 | H43: 477 | I43: 8.3573243

Sheet Cell formatting $
A1: Cell formatting | K1: Tax Rate | L1: 0.1 | M1: 0.1
A2: id | B2: firstname | C2: lastname | D2: email | E2: Date | F2: Company | G2: Contact number | H2: Product | I2: Price | J2: Quantity | K2: Subtotal | L2: Tax 10% | M2: Total | O2: Total | R2: Tax rate
A3: 1 | B3: Charlie | C3: Reichert | D3: Charlie.Reichert28@gmail.com | E3: 45098 | F3: Kihn, Nader and Shields | G3: +44 (0) 551-0506-958 | H3: Practical Wooden Sausages | I3: 9.19 | J3: 179 | K3: =SUM(I3*J3) -> 1645.01 | L3: =K3*Tax_Rate -> 164.501 | M3: =SUM(K3+L3) -> 1809.511 | O3: =SUM(K3+L3) | P3: =K3 * (1 + 0.10) | Q3: =K3+(K3*0.1) | R3: =K3*Tax_Rate | S3: =K3*Tax_Rate -> 164.501
A4: 2 | B4: Sabrina | C4: Carroll | D4: Sabrina_Carroll@yahoo.com | E4: 45099 | F4: Grady, Hodkiewicz | G4: +44 (0) 109-2923-364 | H4: Elegant Cotton Shoes | I4: 7 | J4: 524 | K4: =SUM(I4*J4) -> 3668 | L4: =K4*Tax_Rate -> 366.8 | M4: =SUM(K4+L4) -> 4034.8 | O4: =SUM(K3+L3) -> 1809.511 | P4: =K3 * (1 + 0.1) -> 1809.511 | Q4: =K3+(K3*0.1) -> 1809.511 | R4: =K3*$L$1 | S4: =K3*$L$1 -> 164.501
A5: 3 | B5: Dewey | C5: Monahan-Tromp | D5: Dewey_Monahan-Tromp52@yahoo.com | E5: 45100 | F5: Veum, VonRueden and Hegmann | G5: +44 (0) 408-2180-574 | H5: Incredible Concrete Towels | I5: 9.98 | J5: 233 | K5: =SUM(I5*J5) -> 2325.34 | L5: =K5*Tax_Rate -> 232.534 | M5: =SUM(K5+L5) -> 2557.874 | O5: [$-x-sysdate]dddd, mmmm dd, yyyy
A6: 4 | B6: Charlie | C6: O'Kon | D6: Charlie.OKon@hotmail.com | E6: 45103 | F6: Bosco, Kemmer and Rippin | G6: +44 (0) 439-3997-268 | H6: Awesome Plastic Chicken | I6: 8.35 | J6: 701 | K6: =SUM(I6*J6) -> 5853.35 | L6: =K6*Tax_Rate -> 585.335 | M6: =SUM(K6+L6) -> 6438.685
A7: 5 | B7: Nancy | C7: Ziemann | D7: Nancy.Ziemann@yahoo.com | E7: 45104 | F7: Cronin, Prohaska | G7: +44 (0) 893-8611-355 | H7: Recycled Frozen Computer | I7: 6.8 | J7: 73 | K7: =SUM(I7*J7) -> 496.4 | L7: =K7*Tax_Rate -> 49.64 | M7: =SUM(K7+L7) -> 546.04
A8: 6 | B8: Perry | C8: Kutch | D8: Perry.Kutch@gmail.com | E8: 45105 | F8: Botsford, Watsica | G8: +44 (0) 404-9287-414 | H8: Ergonomic Concrete Tuna | I8: 7.51 | J8: 137 | K8: =SUM(I8*J8) -> 1028.87 | L8: =K8*Tax_Rate -> 102.887 | M8: =SUM(K8+L8) -> 1131.757
A9: 7 | B9: Christine | C9: McKenzie | D9: Christine.McKenzie@yahoo.com | E9: 45106 | F9: Stracke, Marks | G9: +44 (0) 746-7587-877 | H9: Practical Wooden Keyboard | I9: 7.99 | J9: 590 | K9: =SUM(I9*J9) -> 4714.1 | L9: =K9*Tax_Rate -> 471.41 | M9: =SUM(K9+L9) -> 5185.51
A10: 8 | B10: Patsy | C10: Emmerich | D10: Patsy_Emmerich90@hotmail.com | E10: 45107 | F10: Crooks, Crona and Erdman | G10: +44 (0) 375-1243-173 | H10: Tasty Granite Gloves | I10: 5.04 | J10: 569 | K10: =SUM(I10*J10) -> 2867.76 | L10: =K10*Tax_Rate -> 286.776 | M10: =SUM(K10+L10) -> 3154.536
A11: 9 | B11: Laurence | C11: Kuvalis-Feeney | D11: Laurence_Kuvalis-Feeney76@yahoo.com | E11: 45110 | F11: Hessel, Kemmer and Kunde | G11: +44 (0) 364-9152-182 | H11: Gorgeous Bronze Computer | I11: 5.9 | J11: 897 | K11: =SUM(I11*J11) -> 5292.3 | L11: =K11*Tax_Rate -> 529.23 | M11: =SUM(K11+L11) -> 5821.53
A12: 10 | B12: Elsie | C12: Smith | D12: Elsie.Smith@gmail.com | E12: 45111 | F12: Kassulke Group | G12: +44 (0) 996-1678-791 | H12: Luxurious Bronze Cheese | I12: 8.54 | J12: 942 | K12: =SUM(I12*J12) -> 8044.68 | L12: =K12*Tax_Rate -> 804.468 | M12: =SUM(K12+L12) -> 8849.148
A13: 11 | B13: Anita | C13: Pfeffer | D13: Anita_Pfeffer45@hotmail.com | E13: 45112 | F13: Kuhlman, Heaney and Kilback | G13: +44 (0) 689-3602-629 | H13: Gorgeous Steel Gloves | I13: 5.91 | J13: 902 | K13: =SUM(I13*J13) -> 5330.82 | L13: =K13*Tax_Rate -> 533.082 | M13: =SUM(K13+L13) -> 5863.902
A14: 12 | B14: Kevin | C14: Kub | D14: Kevin.Kub@gmail.com | E14: 45113 | F14: Schneider, Koss and Steuber | G14: +44 (0) 802-6270-089 | H14: Tasty Soft Ball | I14: 7.05 | J14: 25 | K14: =SUM(I14*J14) -> 176.25 | L14: =K14*Tax_Rate -> 17.625 | M14: =SUM(K14+L14) -> 193.875
A15: 13 | B15: Debra | C15: West | D15: Debra.West18@yahoo.com | E15: 45114 | F15: Schuster, Balistreri and Douglas | G15: +44 (0) 152-4126-218 | H15: Handcrafted Rubber Mouse | I15: 6.32 | J15: 248 | K15: =SUM(I15*J15) -> 1567.36 | L15: =K15*Tax_Rate -> 156.736 | M15: =SUM(K15+L15) -> 1724.096
A16: 14 | B16: Santiago | C16: Leffler | D16: Santiago91@hotmail.com | E16: 45117 | F16: Roob and Sons | G16: +44 (0) 853-4593-973 | H16: Ergonomic Plastic Chips | I16: 7.72 | J16: 702 | K16: =SUM(I16*J16) -> 5419.44 | L16: =K16*Tax_Rate -> 541.944 | M16: =SUM(K16+L16) -> 5961.384
A17: 15 | B17: Amanda | C17: Lehner | D17: Amanda.Lehner96@yahoo.com | E17: 45118 | F17: Goodwin, Hayes and Gislason | G17: +44 (0) 177-5476-142 | H17: Rustic Bronze Table | I17: 6.76 | J17: 900 | K17: =SUM(I17*J17) -> 6084 | L17: =K17*Tax_Rate -> 608.4 | M17: =SUM(K17+L17) -> 6692.4
... A1002: 1000 | B1002: Minnie | C1002: Konopelski | D1002: Minnie.Konopelski88@gmail.com | E1002: 46497 | F1002: Rodriguez, McGlynn | G1002: +44 (0) 971-6531-328 | H1002: Practical Granite Ball | I1002: 9.71 | J1002: 900 | K1002: =SUM(I1002*J1002) -> 8739 | L1002: =K1002*Tax_Rate -> 873.9 | M1002: =SUM(K1002+L1002) -> 9612.9

Sheet Formula Function
A1: Formula and Functions
A2: OrderDate | B2: Region | C2: Rep | D2: Item | E2: Units | F2: Unit Cost | G2: Total | I2: Formula | K2: Function | M2: Functions and formulas
A3: 43983 | B3: East | C3: Jones | D3: Pencil | E3: 95 | F3: 1.99 | G3: 189.05 | I3: =G2+G3 | K3: Sum | L3: =SUM(Formula_Functions[Total]) -> 19627.88 | M3: =SUM(G3:G45) | N3: =SUM(Formula_Functions[Total])
A4: 43853 | B4: Central | C4: Kivell | D4: Binder | E4: 50 | F4: 19.99 | G4: 999.5 | I4: =G2+G3-G4 | K4: Average | L4: =AVERAGE(Formula_Functions[Total]) -> 456.46233 | M4: =AVERAGE(G3:G45) | N4: =AVERAGE(Formula_Functions[Total])
A5: 44076 | B5: Central | C5: Jardine | D5: Pencil | E5: 36 | F5: 4.99 | G5: 179.64 | K5: Count | L5: =COUNT(Formula_Functions[Total]) -> 43 | M5: =COUNT(G3:G45) | N5: =COUNT(Formula_Functions[Total])
A6: 43887 | B6: Central | C6: Gill | D6: Pen | E6: 27 | F6: 19.99 | G6: 539.73 | K6: Count items | L6: =COUNTA(Formula_Functions[Item]) -> 44 | M6: =COUNTA(D2:D44) | N6: =COUNTA(Formula_Functions[Item])
A7: 43905 | B7: West | C7: Sorvino | D7: Pencil | E7: 56 | F7: 2.99 | G7: 167.44 | K7: Min | L7: =MIN(Formula_Functions[Units]) -> 2 | M7: =MIN(E3:E45) | N7: =MIN(Formula_Functions[Units])
A8: 43834 | B8: East | C8: Jones | D8: Binder | E8: 60 | F8: 4.99 | G8: 299.4 | K8: Max | L8: =MAX(Formula_Functions[Units]) -> 96 | M8: =MAX(G3:G45) | N8: =MAX(Formula_Functions[Units])
A9: 43939 | B9: Central | C9: Andrews | D9: Pencil | E9: 75 | F9: 1.99 | G9: 149.25
A10: 43956 | B10: Central | C10: Jardine | D10: Pencil | E10: 90 | F10: 4.99 | G10: 449.1 | K10: Average Pencil Sales | L10: =AVERAGEIF(Formula_Functions[Item], "Pencil",Formula_Functions[Total]) -> 164.24154 | M10: =AVERAGEIFS(G2:G44,D2:D44,"Pencil")
A11: 43973 | B11: West | C11: Thompson | D11: Pencil | E11: 32 | F11: 1.99 | G11: 63.68 | M11: =AVERAGEIF(Formula_Functions[Item], "Pencil",Formula_Functions[Total])
A12: 44049 | B12: East | C12: Jones | D12: Binder | E12: 60 | F12: 8.99 | G12: 539.4
A13: 44007 | B13: Central | C13: Morgan | D13: Pencil | E13: 90 | F13: 4.99 | G13: 449.1
A14: 44172 | B14: East | C14: Howard | D14: Binder | E14: 29 | F14: 1.99 | G14: 57.71 | K14: Item | L14: Count
A15: 43890 | B15: East | C15: Parent | D15: Binder | E15: 81 | F15: 19.99 | G15: 1619.19 | K15: {=_xlfn.UNIQUE(D3:D45)} -> Pencil | L15: =COUNTIF(Formula_Functions[Item],K15) -> 13 | M15: =UNIQUE(D23D45) | N15: =COUNTIF(Formula_Functions[Item],K15)
A16: 44058 | B16: East | C16: Jones | D16: Pencil | E16: 35 | F16: 4.99 | G16: 174.65 | K16: Binder | L16: =COUNTIF(Formula_Functions[Item],K16) -> 15 | N16: =COUNTIF(D3:D45,K15)
A17: 44075 | B17: Central | C17: Smith | D17: Desk | E17: 2 | F17: 125 | G17: 250 | K17: Pen | L17: =COUNTIF(Formula_Functions[Item],K17) -> 5
A18: 44092 | B18: East | C18: Jones | D18: Pen Set | E18: 16 | F18: 15.99 | G18: 255.84 | K18: Desk | L18: =COUNTIF(Formula_Functions[Item],K18) -> 3
A19: 43961 | B19: Central | C19: Morgan | D19: Binder | E19: 28 | F19: 8.99 | G19: 251.72 | K19: Pen Set | L19: =COUNTIF(Formula_Functions[Item],K19) -> 7
A20: 44126 | B20: East | C20: Jones | D20: Pen | E20: 64 | F20: 8.99 | G20: 575.36
A21: 44054 | B21: East | C21: Parent | D21: Pen | E21: 15 | F21: 19.99 | G21: 299.85 | K21: List - alphabetical order
A22: 43886 | B22: Central | C22: Kivell | D22: Pen Set | E22: 96 | F22: 4.99 | G22: 479.04 | K22: Choose an option
A23: 44177 | B23: Central | C23: Smith | D23: Pencil | E23: 67 | F23: 1.29 | G23: 86.43 | K23: Binder
A24: 44194 | B24: East | C24: Parent | D24: Pen Set | E24: 74 | F24: 15.99 | G24: 1183.26 | K24: Desk
A25: 44211 | B25: Central | C25: Gill | D25: Binder | E25: 46 | F25: 8.99 | G25: 413.54 | K25: Pen
A26: 44198 | B26: Central | C26: Smith | D26: Binder | E26: 87 | F26: 15 | G26: 1305 | K26: Pen Set
A27: 44245 | B27: East | C27: Jones | D27: Binder | E27: 4 | F27: 4.99 | G27: 19.96 | K27: Pencil
A28: 44380 | B28: West | C28: Sorvino | D28: Binder | E28: 7 | F28: 19.99 | G28: 139.93
A29: 44279 | B29: Central | C29: Jardine | D29: Pen Set | E29: 50 | F29: 4.99 | G29: 249.5
A30: 44473 | B30: Central | C30: Andrews | D30: Pencil | E30: 66 | F30: 1.99 | G30: 131.34
A31: 44313 | B31: East | C31: Howard | D31: Pen | E31: 96 | F31: 4.99 | G31: 479.04
A32: 44241 | B32: Central | C32: Gill | D32: Pencil | E32: 53 | F32: 1.29 | G32: 68.37
A33: 44347 | B33: Central | C33: Gill | D33: Binder | E33: 80 | F33: 8.99 | G33: 719.2
A34: 44364 | B34: Central | C34: Kivell | D34: Desk | E34: 5 | F34: 125 | G34: 625
A35: 44293 | B35: East | C35: Jones | D35: Pen Set | E35: 62 | F35: 4.99 | G35: 309.38
A36: 44398 | B36: Central | C36: Morgan | D36: Pen Set | E36: 55 | F36: 12.49 | G36: 686.95
A37: 44385 | B37: Central | C37: Kivell | D37: Pen Set | E37: 42 | F37: 23.95 | G37: 1005.9
A38: 44432 | B38: West | C38: Sorvino | D38: Desk | E38: 3 | F38: 275 | G38: 825
A39: 44478 | B39: Central | C39: Gill | D39: Pencil | E39: 7 | F39: 1.29 | G39: 9.03
... A45: 44551 | B45: Central | C45: Andrews | D45: Binder | E45: 28 | F45: 4.99 | G45: 139.72
...

Sheet Time
A1: Time
A2: Start | B2: Finish | C2: Tine in Hours | E2: Start | F2: Finish | G2: Tine in Days
A3: 0.29166667 | B3: 0.625 | C3: =MOD(B3-A3,1)*24 -> 8 | E3: 45018 | F3: 45091 | G3: =_xlfn.DAYS(F3,E3) -> 73
A4: 0.20833333 | B4: 0.70833333 | C4: =MOD(B4-A4,1)*24 -> 12 | E4: 45467 | F4: 45476 | G4: =_xlfn.DAYS(F4,E4) -> 9
A5: 0.42569444 | B5: 0.60555556 | C5: =MOD(B5-A5,1)*24 -> 4.3166667 | E5: 45272 | F5: 45302 | G5: =_xlfn.DAYS(F5,E5) -> 30
A6: 0.3625 | B6: 0.59861111 | C6: =MOD(B6-A6,1)*24 -> 5.6666667 | E6: 44780 | F6: 44816 | G6: =_xlfn.DAYS(F6,E6) -> 36
A7: 0.375 | B7: 0.65 | C7: =MOD(B7-A7,1)*24 -> 6.6 | E7: 45130 | F7: 45187 | G7: =_xlfn.DAYS(F7,E7) -> 57
A8: 0.22708333 | B8: 0.7875 | C8: =MOD(B8-A8,1)*24 -> 13.45 | E8: 45324 | F8: 45354 | G8: =_xlfn.DAYS(F8,E8) -> 30
A9: 0.45833333 | B9: 0.83333333 | C9: =MOD(B9-A9,1)*24 -> 9 | E9: 45404 | F9: 45442 | G9: =_xlfn.DAYS(F9,E9) -> 38
B11: Function/Formula | C11: =MOD(B2-A2,1)*24 | F11: Function/Formula | G11: =DAYS(F3,E3)
B12: Cell formatting | C12: [$-en-GB]h:mm AM/PM;@ | F12: Cell formatting | G12: dd/mm/yyyy

Sheet Channel Marketing Budget
B1: CHANNEL MARKETING BUDGET
C2: Rate | D2: Month 1 | E2: Month 2 | F2: Month 3 | G2: Month 4 | H2: Month 5 | I2: Month 6 | J2: Month 7 | K2: Month 8 | L2: Month 9 | M2: Month 10 | N2: Month 11 | O2: Month 12 | Q2: Total
B3: ANTICIPATED SALES TOTAL $(000) | D3: 750 | E3: 200 | F3: 500 | G3: 1500 | H3: 1200 | I3: 1500 | J3: 1500 | K3: 1800 | L3: 2000 | M3: 2000 | N3: 2000 | O3: 2000 | Q3: =SUM(D3:O3) -> 16950
B4: PERSONNEL (% OF TOTAL SALES) | D4: =D9+D28+D35+D41 -> 1.1 | E4: =E9+E28+E35+E41 -> 1.1 | F4: =F9+F28+F35+F41 -> 1.1 | G4: =G9+G28+G35+G41 -> 1.1 | H4: =H9+H28+H35+H41 -> 1.1 | I4: =I9+I28+I35+I41 -> 1.1 | J4: =J9+J28+J35+J41 -> 1.1 | K4: =K9+K28+K35+K41 -> 1.1 | ... O4: =O9+O28+O35+O41 -> 0.85
B5: Human Resources - Headcount | C5: 5 | D5: =+$C$5 -> 5 | E5: =+$C$5 -> 5 | F5: =+$C$5 -> 5 | G5: =+$C$5 -> 5 | H5: =+$C$5 -> 5 | I5: =+$C$5 -> 5 | J5: =+$C$5 -> 5 | K5: =+$C$5 -> 5 | ... O5: =+$C$5 -> 5
B6: Human Resources - Cost | D6: =$C$5*D5 -> 25 | E6: =$C$5*E5 -> 25 | F6: =$C$5*F5 -> 25 | G6: =$C$5*G5 -> 25 | H6: =$C$5*H5 -> 25 | I6: =$C$5*I5 -> 25 | J6: =$C$5*J5 -> 25 | K6: =$C$5*K5 -> 25 | ... O6: =$C$5*O5 -> 25 | Q6: =SUM('Channel Marketing Budget'!$D6:$O6) -> 300
B7: Commission | C7: 0.001 | D7: =D3*$C$7 -> 0.75 | E7: =E3*$C$7 -> 0.2 | F7: =F3*$C$7 -> 0.5 | G7: =G3*$C$7 -> 1.5 | H7: =H3*$C$7 -> 1.2 | I7: =I3*$C$7 -> 1.5 | J7: =J3*$C$7 -> 1.5 | K7: =K3*$C$7 -> 1.8 | ... O7: =O3*$C$7 -> 2 | Q7: =SUM('Channel Marketing Budget'!$D7:$O7) -> 16.95
B8: Personnel Total $(000) | D8: =SUM(D6:D7) -> 25.75 | E8: =SUM(E6:E7) -> 25.2 | F8: =SUM(F6:F7) -> 25.5 | G8: =SUM(G6:G7) -> 26.5 | H8: =SUM(H6:H7) -> 26.2 | I8: =SUM(I6:I7) -> 26.5 | J8: =SUM(J6:J7) -> 26.5 | K8: =SUM(K6:K7) -> 26.8 | ... O8: =SUM(O6:O7) -> 27 | Q8: =SUM('Channel Marketing Budget'!$D8:$O8) -> 316.95
B9: DIRECT MARKETING (% OF TOTAL SALES) | D9: 1 | E9: 1 | F9: 0.75 | G9: 0.4 | H9: 0.33 | I9: 0.25 | J9: 0.2 | K9: 0.1 | L9: 0.05 | M9: 0.05 | N9: 0.05 | O9: 0.05
B10: Telemarketing (% of Direct Sales) | D10: 1 | E10: 0.5 | F10: 0.5 | G10: 0.5 | H10: 0.5 | I10: 0.5 | J10: 0.5 | K10: 0.5 | L10: 0.5 | M10: 0.5 | N10: 0.5 | O10: 0.5
B11: Human Resources - Headcount | C11: 3 | D11: =$C$11*D10 -> 3 | E11: =$C$11*E10 -> 1.5 | F11: =$C$11*F10 -> 1.5 | G11: =$C$11*G10 -> 1.5 | H11: =$C$11*H10 -> 1.5 | I11: =$C$11*I10 -> 1.5 | J11: =$C$11*J10 -> 1.5 | K11: =$C$11*K10 -> 1.5 | ... O11: =$C$11*O10 -> 1.5 | Q11: =SUM('Channel Marketing Budget'!$D11:$O11) -> 19.5
B12: Infrastructure Support | D12: 25 | E12: 10 | F12: 25 | G12: 10 | H12: 25 | I12: 10 | J12: 25 | K12: 10 | L12: 25 | M12: 10 | N12: 25 | O12: 10 | Q12: =SUM('Channel Marketing Budget'!$D12:$O12) -> 210
B13: Commission | C13: 0.001 | D13: =$C$13*D3*D9*D10 -> 0.75 | E13: =$C$13*E3*E9*E10 -> 0.1 | F13: =$C$13*F3*F9*F10 -> 0.1875 | G13: =$C$13*G3*G9*G10 -> 0.3 | H13: =$C$13*H3*H9*H10 -> 0.198 | I13: =$C$13*I3*I9*I10 -> 0.1875 | J13: =$C$13*J3*J9*J10 -> 0.15 | K13: =$C$13*K3*K9*K10 -> 0.09 | ... O13: =$C$13*O3*O9*O10 -> 0.05 | Q13: =SUM('Channel Marketing Budget'!$D13:$O13) -> 2.163
B14: Training | D14: 25 | E14: 10 | F14: 25 | G14: 10 | H14: 25 | I14: 10 | J14: 25 | K14: 10 | L14: 25 | M14: 10 | N14: 25 | O14: 10 | Q14: =SUM('Channel Marketing Budget'!$D14:$O14) -> 210
B15: Telemarketing Total $(000) | D15: =SUM(D11:D14) -> 53.75 | E15: =SUM(E11:E14) -> 21.6 | F15: =SUM(F11:F14) -> 51.6875 | G15: =SUM(G11:G14) -> 21.8 | H15: =SUM(H11:H14) -> 51.698 | I15: =SUM(I11:I14) -> 21.6875 | J15: =SUM(J11:J14) -> 51.65 | K15: =SUM(K11:K14) -> 21.59 | ... O15: =SUM(O11:O14) -> 21.55 | Q15: =SUM('Channel Marketing Budget'!$D15:$O15) -> 441.663
B16: Internet Marketing (% of Direct Sales) | D16: 0.25 | E16: 0.25 | F16: 0.25 | G16: 0.25 | H16: 0.25 | I16: 0.25 | J16: 0.25 | K16: 0.25 | L16: 0.25 | M16: 0.25 | N16: 0.25 | O16: 0.25
B17: Human Resources - Headcount | C17: 1 | D17: =$C$17*D16 -> 0.25 | E17: =$C$17*E16 -> 0.25 | F17: =$C$17*F16 -> 0.25 | G17: =$C$17*G16 -> 0.25 | H17: =$C$17*H16 -> 0.25 | I17: =$C$17*I16 -> 0.25 | J17: =$C$17*J16 -> 0.25 | K17: =$C$17*K16 -> 0.25 | ... O17: =$C$17*O16 -> 0.25 | Q17: =SUM('Channel Marketing Budget'!$D17:$O17) -> 3
B18: Website Development (one-time cost) | D18: 500 | Q18: =SUM('Channel Marketing Budget'!$D18:$O18) -> 500
B19: Hosting | D19: 10 | E19: 10 | F19: 10 | G19: 10 | H19: 10 | I19: 10 | J19: 10 | K19: 10 | L19: 10 | M19: 10 | N19: 10 | O19: 10 | Q19: =SUM('Channel Marketing Budget'!$D19:$O19) -> 120
B20: Support & Maintenance | D20: 25 | N20: 25 | Q20: =SUM('Channel Marketing Budget'!$D20:$O20) -> 50
B21: Internet Marketing Total $(000) | D21: =SUM(D17:D20) -> 535.25 | E21: =SUM(E17:E20) -> 10.25 | F21: =SUM(F17:F20) -> 10.25 | G21: =SUM(G17:G20) -> 10.25 | H21: =SUM(H17:H20) -> 10.25 | I21: =SUM(I17:I20) -> 10.25 | J21: =SUM(J17:J20) -> 10.25 | K21: =SUM(K17:K20) -> 10.25 | ... O21: =SUM(O17:O20) -> 10.25 | Q21: =SUM('Channel Marketing Budget'!$D21:$O21) -> 673
B22: Direct email (% of direct sales)
B23: Human Resources - Cost | Q23: =SUM('Channel Marketing Budget'!$D23:$O23) -> 0
B24: Material | D24: 1000 | E24: 1000 | F24: 1000 | G24: 1000 | H24: 1000 | I24: 1000 | J24: 1000 | K24: 1000 | L24: 1000 | M24: 1000 | N24: 1000 | O24: 1000 | Q24: =SUM('Channel Marketing Budget'!$D24:$O24) -> 12000
B25: Postage | D25: 250 | E25: 250 | F25: 250 | G25: 250 | H25: 250 | I25: 250 | J25: 250 | K25: 250 | L25: 250 | M25: 250 | N25: 250 | O25: 250 | Q25: =SUM('Channel Marketing Budget'!$D25:$O25) -> 3000
B26: Direct email total $ (000) | D26: =SUM(D23:D25) -> 1250 | E26: =SUM(E23:E25) -> 1250 | F26: =SUM(F23:F25) -> 1250 | G26: =SUM(G23:G25) -> 1250 | H26: =SUM(H23:H25) -> 1250 | I26: =SUM(I23:I25) -> 1250 | J26: =SUM(J23:J25) -> 1250 | K26: =SUM(K23:K25) -> 1250 | ... O26: =SUM(O23:O25) -> 1250 | Q26: =SUM(Q23:Q25) -> 15000
B27: Direct Marketing Total $(000) | D27: =SUM(D15,D21,D26) -> 1839 | E27: =SUM(E15,E21,E26) -> 1281.85 | F27: =SUM(F15,F21,F26) -> 1311.9375 | G27: =SUM(G15,G21,G26) -> 1282.05 | H27: =SUM(H15,H21,H26) -> 1311.948 | I27: =SUM(I15,I21,I26) -> 1281.9375 | J27: =SUM(J15,J21,J26) -> 1311.9 | K27: =SUM(K15,K21,K26) -> 1281.84 | ... O27: =SUM(O15,O21,O26) -> 1281.8 | Q27: =SUM(Q15,Q21,Q26) -> 16114.663
B28: AGENT/BROKER (% OF TOTAL SALES) | D28: 0.1 | E28: 0.1 | F28: 0.1 | G28: 0.1 | H28: 0.1 | I28: 0.1 | J28: 0.1 | K28: 0.1 | L28: 0.1 | M28: 0.1 | N28: 0.1 | O28: 0.1
B29: Communication | D29: 50 | E29: 50 | F29: 50 | G29: 50 | H29: 50 | I29: 50 | J29: 50 | K29: 50 | L29: 50 | M29: 50 | N29: 50 | O29: 50 | Q29: =SUM('Channel Marketing Budget'!$D29:$O29) -> 600
B30: Training | D30: 250 | E30: 250 | F30: 250 | G30: 250 | H30: 250 | I30: 250 | J30: 250 | K30: 250 | L30: 250 | M30: 250 | N30: 250 | O30: 250 | Q30: =SUM('Channel Marketing Budget'!$D30:$O30) -> 3000
B31: Promotions | D31: 600 | E31: 600 | F31: 600 | G31: 600 | H31: 600 | I31: 600 | J31: 600 | K31: 600 | L31: 600 | M31: 600 | N31: 600 | O31: 600 | Q31: =SUM('Channel Marketing Budget'!$D31:$O31) -> 7200
B32: Discounts | C32: 0.1 | D32: =D3*D28*$C$32 -> 7.5 | E32: =E3*E28*$C$32 -> 2 | F32: =F3*F28*$C$32 -> 5 | G32: =G3*G28*$C$32 -> 15 | H32: =H3*H28*$C$32 -> 12 | I32: =I3*I28*$C$32 -> 15 | J32: =J3*J28*$C$32 -> 15 | K32: =K3*K28*$C$32 -> 18 | ... O32: =O3*O28*$C$32 -> 20 | Q32: =SUM('Channel Marketing Budget'!$D32:$O32) -> 169.5
B33: Commission (% of Agent's Sales) | C33: 0.1 | D33: =D3*D28*$C$33 -> 7.5 | E33: =E3*E28*$C$33 -> 2 | F33: =F3*F28*$C$33 -> 5 | G33: =G3*G28*$C$33 -> 15 | H33: =H3*H28*$C$33 -> 12 | I33: =I3*I28*$C$33 -> 15 | J33: =J3*J28*$C$33 -> 15 | K33: =K3*K28*$C$33 -> 18 | ... O33: =O3*O28*$C$33 -> 20 | Q33: =SUM('Channel Marketing Budget'!$D33:$O33) -> 169.5
B34: Agent/Broker Total $(000) | D34: =SUM(D29:D33) -> 915 | E34: =SUM(E29:E33) -> 904 | F34: =SUM(F29:F33) -> 910 | G34: =SUM(G29:G33) -> 930 | H34: =SUM(H29:H33) -> 924 | I34: =SUM(I29:I33) -> 930 | J34: =SUM(J29:J33) -> 930 | K34: =SUM(K29:K33) -> 936 | ... O34: =SUM(O29:O33) -> 940 | Q34: =SUM(Q29:Q33) -> 11139
B35: DISTRIBUTORS (% OF TOTAL SALES) | D35: 0 | E35: 0 | F35: 0 | G35: 0 | H35: 0 | I35: 0.15 | J35: 0.2 | K35: 0.4 | L35: 0.4 | M35: 0.4 | N35: 0.4 | O35: 0.4
B36: Communication | D36: 50 | E36: 50 | F36: 50 | G36: 50 | H36: 50 | I36: 50 | J36: 50 | K36: 50 | L36: 50 | M36: 50 | N36: 50 | O36: 50 | Q36: =SUM('Channel Marketing Budget'!$D36:$O36) -> 600
B37: Training | D37: 250 | E37: 250 | F37: 250 | G37: 250 | H37: 250 | I37: 250 | J37: 250 | K37: 250 | L37: 250 | M37: 250 | N37: 250 | O37: 250 | Q37: =SUM('Channel Marketing Budget'!$D37:$O37) -> 3000
B38: Promotions | D38: 600 | E38: 600 | F38: 600 | G38: 600 | H38: 600 | I38: 600 | J38: 600 | K38: 600 | L38: 600 | M38: 600 | N38: 600 | O38: 600 | Q38: =SUM('Channel Marketing Budget'!$D38:$O38) -> 7200
B39: Commission/Discounts (% of Distributors' Sales) | C39: 0.15 | D39: =D3*D35*$C$39 -> 0 | E39: =E3*E35*$C$39 -> 0 | F39: =F3*F35*$C$39 -> 0 | G39: =G3*G35*$C$39 -> 0 | H39: =H3*H35*$C$39 -> 0 | I39: =I3*I35*$C$39 -> 33.75 | J39: =J3*J35*$C$39 -> 45 | K39: =K3*K35*$C$39 -> 108 | ... O39: =O3*O35*$C$39 -> 120 | Q39: =SUM('Channel Marketing Budget'!$D39:$O39) -> 666.75
B40: Distributor Total $(000) | D40: =SUM(D36:D39) -> 900 | E40: =SUM(E36:E39) -> 900 | F40: =SUM(F36:F39) -> 900 | G40: =SUM(G36:G39) -> 900 | H40: =SUM(H36:H39) -> 900 | I40: =SUM(I36:I39) -> 933.75 | J40: =SUM(J36:J39) -> 945 | K40: =SUM(K36:K39) -> 1008 | ... O40: =SUM(O36:O39) -> 1020 | Q40: =SUM(Q36:Q39) -> 11466.75
...
